BEGIN:VCALENDAR
PRODID:-//Solspace/Calendar 2.x//EN
VERSION:2.0
CALSCALE:GREGORIAN
BEGIN:VEVENT
UID:58b6d79043197da398074074dcf43d7c@solspace.com
DTSTAMP:20260423T134910
DTSTART:20250918T120000
DTEND:20250918T140000
RRULE:FREQ=MONTHLY;UNTIL=20260531T235959Z;INTERVAL=2;BYDAY=3TH
SUMMARY:Clergywomen's Luncheon
END:VEVENT
END:VCALENDAR
