BEGIN:VCALENDAR
PRODID:-//Solspace/Calendar 2.x//EN
VERSION:2.0
CALSCALE:GREGORIAN
BEGIN:VEVENT
UID:6267eab300eabfc08365cab25de8e38e@solspace.com
DTSTAMP:20260420T132753
DTSTART:20260517T150000
DTEND:20260517T163000
SUMMARY:Bach Cantata Choir Bach-Woods Concert
END:VEVENT
END:VCALENDAR
