BEGIN:VCALENDAR
PRODID:-//Solspace/Calendar 2.x//EN
VERSION:2.0
CALSCALE:GREGORIAN
BEGIN:VEVENT
UID:c5665a1e5f765ff92e3f24b7b3559bfd@solspace.com
DTSTAMP:20260420T130608
DTSTART:20260517T130000
DTEND:20260517T150000
SUMMARY:EMO 13th Annual Interfaith Earth Summit
END:VEVENT
END:VCALENDAR
